BEGIN:VCALENDAR
VERSION:2.0
PRODID:-//The Hellenic Spanish Chamber of Commerce - ECPv6.11.2//NONSGML v1.0//EN
CALSCALE:GREGORIAN
METHOD:PUBLISH
X-WR-CALNAME:The Hellenic Spanish Chamber of Commerce
X-ORIGINAL-URL:https://hellenicspanishchamber.gr
X-WR-CALDESC:Events for The Hellenic Spanish Chamber of Commerce
REFRESH-INTERVAL;VALUE=DURATION:PT1H
X-Robots-Tag:noindex
X-PUBLISHED-TTL:PT1H
BEGIN:VTIMEZONE
TZID:Europe/Moscow
BEGIN:STANDARD
TZOFFSETFROM:+0300
TZOFFSETTO:+0300
TZNAME:MSK
DTSTART:20210101T000000
END:STANDARD
END:VTIMEZONE
BEGIN:VEVENT
DTSTART;TZID=Europe/Moscow:20240209T184500
DTEND;TZID=Europe/Moscow:20240209T210000
DTSTAMP:20260423T194754
CREATED:20240216T082447Z
LAST-MODIFIED:20240419T202321Z
UID:229715-1707504300-1707512400@hellenicspanishchamber.gr
SUMMARY:GUIDED VISIT TO MARIA CALLAS MUSEUM 09/02/2024
DESCRIPTION:In the framework of cultural networking activities\, the Hellenic Spanish Chamber of Commerce organised a Guided Visit to the Maria Callas Museum. It was a wonderful experience where our members enjoyed a great time. We strongly recommend you to visit the museum!!\nThank you very much to Denny Vildiridou\, PhD \, Development and PR Manager\, and to Maria Goutou\, for such kind event. \n 
URL:https://hellenicspanishchamber.gr/event/guided-visit-to-maria-callas-museum-09-02-2024/
CATEGORIES:Events ES
ATTACH;FMTTYPE=image/png:https://hellenicspanishchamber.gr/wp-content/uploads/2024/02/Diseno-sin-titulo-11.png
END:VEVENT
BEGIN:VEVENT
DTSTART;TZID=Europe/Moscow:20231231T235900
DTEND;TZID=Europe/Moscow:20231231T235900
DTSTAMP:20260423T194754
CREATED:20240313T120326Z
LAST-MODIFIED:20240313T120326Z
UID:230007-1704067140-1704067140@hellenicspanishchamber.gr
SUMMARY:SUMMARY ACTIVITIES 2023
DESCRIPTION:The following link presents the summary of all the activities\, events and programs carried out throughout the year 2023:
URL:https://hellenicspanishchamber.gr/event/summary-activities-2023/
CATEGORIES:Events EN
ATTACH;FMTTYPE=application/pdf:https://hellenicspanishchamber.gr/wp-content/uploads/2024/03/Proyecto-1.pdf
END:VEVENT
BEGIN:VEVENT
DTSTART;TZID=Europe/Moscow:20221231T235900
DTEND;TZID=Europe/Moscow:20221231T235900
DTSTAMP:20260423T194754
CREATED:20240313T114031Z
LAST-MODIFIED:20240313T114041Z
UID:230001-1672531140-1672531140@hellenicspanishchamber.gr
SUMMARY:SUMMARY ACTIVITIES 2022
DESCRIPTION:The following link presents the summary of all the activities\, events and programs carried out throughout the year 2022: \n 
URL:https://hellenicspanishchamber.gr/event/summary-activities-2022/
CATEGORIES:Events EN
ATTACH;FMTTYPE=application/pdf:https://hellenicspanishchamber.gr/wp-content/uploads/2024/03/Proyecto.pdf
END:VEVENT
BEGIN:VEVENT
DTSTART;TZID=Europe/Moscow:20211231T000000
DTEND;TZID=Europe/Moscow:20211231T000000
DTSTAMP:20260423T194754
CREATED:20220602T095050Z
LAST-MODIFIED:20240216T113322Z
UID:226263-1640908800-1640908800@hellenicspanishchamber.gr
SUMMARY:Summary Activities 2021
DESCRIPTION:The following link presents the summary of all the activities\, events and programs carried out throughout the year 2021: \n  \nNewsLetter_2021
URL:https://hellenicspanishchamber.gr/event/summary-activities-2021/
CATEGORIES:Events EN
ATTACH;FMTTYPE=image/png:https://hellenicspanishchamber.gr/wp-content/uploads/2022/06/Presentacion-Asamblea-recorte.png
END:VEVENT
END:VCALENDAR