BEGIN:VCALENDAR
VERSION:2.0
PRODID:-//The Hellenic Spanish Chamber of Commerce - ECPv6.11.2//NONSGML v1.0//EN
CALSCALE:GREGORIAN
METHOD:PUBLISH
X-ORIGINAL-URL:https://hellenicspanishchamber.gr
X-WR-CALDESC:Events for The Hellenic Spanish Chamber of Commerce
REFRESH-INTERVAL;VALUE=DURATION:PT1H
X-Robots-Tag:noindex
X-PUBLISHED-TTL:PT1H
BEGIN:VTIMEZONE
TZID:Europe/Moscow
BEGIN:STANDARD
TZOFFSETFROM:+0300
TZOFFSETTO:+0300
TZNAME:MSK
DTSTART:20260101T000000
END:STANDARD
END:VTIMEZONE
BEGIN:VEVENT
DTSTART;VALUE=DATE:20260202
DTEND;VALUE=DATE:20260203
DTSTAMP:20260423T164440
CREATED:20260323T104130Z
LAST-MODIFIED:20260323T104340Z
UID:231782-1769990400-1770076799@hellenicspanishchamber.gr
SUMMARY:HSCC Participates in HFAISTOS Event on Vocational Education. 02/02/2026
DESCRIPTION:The Educational Association of Athens ‘HFAISTOS’ organized a thematic event titled “Vocational Education as a Bridge for Today’s and Tomorrow’s Technical Professions.” The Hellenic Spanish Chamber of Commerce actively participated in the panel discussion\, contributing valuable insights on cross-border cooperation\, workforce development\, and the importance of vocational training in a rapidly evolving economic environment.\nΤhe event highlighted the crucial role of technical and vocational education in addressing current and future labor market needs\, fostering skills development\, and strengthening the connection between education and industry.\nA meaningful exchange of ideas\, perspectives\, and best practices toward a more inclusive and future-ready education system.
URL:https://hellenicspanishchamber.gr/event/hscc-participates-in-hfaistos-event-on-vocational-education-02-02-2026/
CATEGORIES:Events EL,Events EN,Events ES
ATTACH;FMTTYPE=image/png:https://hellenicspanishchamber.gr/wp-content/uploads/2026/03/Diseno-sin-titulo-14.png
END:VEVENT
BEGIN:VEVENT
DTSTART;TZID=Europe/Moscow:20260216T193000
DTEND;TZID=Europe/Moscow:20260216T210000
DTSTAMP:20260423T164440
CREATED:20260224T122632Z
LAST-MODIFIED:20260224T122632Z
UID:231632-1771270200-1771275600@hellenicspanishchamber.gr
SUMMARY:KOPI TIS PITAS 16/03/2026 19.30h
DESCRIPTION:
URL:https://hellenicspanishchamber.gr/event/kopi-tis-pitas-16-03-2026-19-30h/
END:VEVENT
BEGIN:VEVENT
DTSTART;VALUE=DATE:20260302
DTEND;VALUE=DATE:20260306
DTSTAMP:20260423T164440
CREATED:20260318T104205Z
LAST-MODIFIED:20260319T080450Z
UID:231686-1772409600-1772755199@hellenicspanishchamber.gr
SUMMARY:Participation at GSMA Mobile World Congress (MWC) Barcelona 02-05/03/2026
DESCRIPTION:For the second consecutive year\, the Hellenic Spanish Chamber of Commerce supported Greece’s official national participation at MWC Barcelona 2026 (GSMA Mobile World Congress)\, reinforcing its institutional commitment to strengthening cooperation between Greece and Spain in the fields of digital transformation and innovation. \nGreece’s participation was coordinated by SEKEE (Hellenic Association of Mobile Applications Companies)\, in collaboration with the Ministry of Digital Governance and Artificial Intelligence of Greece and Enterprise Greece\, marking the 13th consecutive year of organized national presence at the event. \nThe Greek Pavilion served as the official national platform for innovation\, institutional engagement\, and international networking\, hosting more than 40 Greek technology companies active in sectors including artificial intelligence\, IoT\, semiconductors\, digital governance\, smart infrastructure\, and advanced telecommunications. \nWithin this framework\, the Chamber contributed at an institutional level by supporting structured dialogue and facilitating connections between stakeholders from both countries\, further reinforcing links between the Greek and Spanish innovation ecosystems. \nMWC Barcelona continues to provide a strategic environment where digital policy\, economic cooperation\, and innovation converge\, supporting the strengthening of long-term Greece–Spain collaboration within the broader European digital landscape. \n          
URL:https://hellenicspanishchamber.gr/event/participation-at-gsma-mobile-world-congress-mwc-barcelona-02-05-03-2026/
CATEGORIES:Events EL,Events EN,Events ES
ATTACH;FMTTYPE=image/png:https://hellenicspanishchamber.gr/wp-content/uploads/2026/03/Diseno-sin-titulo-9.png
END:VEVENT
BEGIN:VEVENT
DTSTART;TZID=Europe/Moscow:20260309T100000
DTEND;TZID=Europe/Moscow:20260309T110000
DTSTAMP:20260423T164440
CREATED:20260224T122314Z
LAST-MODIFIED:20260324T083732Z
UID:231628-1773050400-1773054000@hellenicspanishchamber.gr
SUMMARY:Business Breakfast. Keynote Speaker: Secretary General of the Greek National Tourism Organization\, Mr Andreas N. Fiorentinos 09/03/2026
DESCRIPTION:The Hellenic Spanish Chamber of Commerce\, recently hosted a Business Breakfast with Andreas Nicholas Fiorentinos\, Secretary General of the Greek National Tourism Organisation (EOT)\, who shared valuable insights on the growing importance of the Spanish outbound tourism market for Greece. \nDuring his keynote presentation\, Mr. Fiorentinos highlighted the strong momentum of Spanish international travel. In the first quarter of 2025 alone\, Spanish residents made nearly 9.9 million trips abroad\, marking a 5.3% increase compared to 2024\, while tourism spending grew by more than 10%. \nEncouragingly for Greece\, the country continues to strengthen its position among Spanish travelers. According to the data presented\, Spain–Greece air passenger traffic has increased by nearly 75% over the past four years\, while Spanish arrivals to Athens alone reached more than 308\,000 in 2025\, reflecting a 34% increase compared to the previous year. \nMr. Fiorentinos also emphasized broader trends shaping the market\, including the growing demand for experiential travel\, cultural tourism\, gastronomy\, and high-quality tailor-made experience\, areas where Greece has a strong competitive advantage. \nThe event brought together Chamber members\, tourism professionals\, business leaders\, fostering a constructive discussion on how to further strengthen tourism cooperation between Greece and Spain and leverage the significant opportunities this market presents. \nThe Chamber warmly thanks Mr. Fiorentinos for his insightful presentation and all participants who joined us for this engaging discussion. \n       
URL:https://hellenicspanishchamber.gr/event/business-breakfast-key-note-speaker-secretary-general-of-the-greek-national-tourism-organization-mr-andreas-n-fiorentinos-09-11-206/
CATEGORIES:Events EL,Events EN,Events ES
ATTACH;FMTTYPE=image/png:https://hellenicspanishchamber.gr/wp-content/uploads/2026/02/Diseno-sin-titulo-18.png
END:VEVENT
BEGIN:VEVENT
DTSTART;VALUE=DATE:20260314
DTEND;VALUE=DATE:20260317
DTSTAMP:20260423T164440
CREATED:20260401T102806Z
LAST-MODIFIED:20260401T102902Z
UID:231986-1773446400-1773705599@hellenicspanishchamber.gr
SUMMARY:Food Expo 2026. 14-16/03/2026
DESCRIPTION:
URL:https://hellenicspanishchamber.gr/event/food-expo-2026-14-16-03-2026/
CATEGORIES:Events EL,Events EN,Events ES
ATTACH;FMTTYPE=image/png:https://hellenicspanishchamber.gr/wp-content/uploads/2026/04/Diseno-sin-titulo-31.png
END:VEVENT
BEGIN:VEVENT
DTSTART;TZID=Europe/Moscow:20260316T080000
DTEND;TZID=Europe/Moscow:20260316T193000
DTSTAMP:20260423T164440
CREATED:20260309T164819Z
LAST-MODIFIED:20260324T101224Z
UID:231639-1773648000-1773689400@hellenicspanishchamber.gr
SUMMARY:New Year Pita Cutting-Kopi tis pitas 16/03/2026 19.30h
DESCRIPTION:The Hellenic-Spanish Chamber of Commerce successfully held its annual Κοπή Πίτας (Kopi Pita)\, bringing together members\, partners\, and institutional representatives to mark the beginning of the new year in a spirit of connection and shared purpose. \nWe were deeply honored by the presence of the Ambassador of Spain\, Jorge Domecq\, as well as Zoe Rapti\, Deputy Minister of Development of the Hellenic Republic. Their participation highlights the significance of strengthening bilateral engagement and the growing commercial ties between Greece and Spain. \nThe event\, held at the Hotel Meliá Athens\, reflected not only the strength of the Chamber’s network but also the positive momentum and collaborative spirit that will guide our activities in the year ahead. It was an excellent opportunity for professionals and business leaders to toast to a prosperous 2026 full of cooperation. \nAcknowledgments the Spanish Chamber extend our sincere appreciation to Meliá Hotels International Athens for hosting the event and for sponsoring the delicious aperitif. Special thanks are due to Stavros Stavropoulos\, Hara Gzirtzi\, and Eleni Lampari for their professionalism and essential support in ensuring the successful execution of the evening. \nAlso wish to acknowledge Cellier Wine & Spirits for sponsoring the fine wines and contributing to the overall quality of the event. \n       
URL:https://hellenicspanishchamber.gr/event/new-year-pita-cutting-kopi-tis-pitas-16-03-2026-19-30h/
CATEGORIES:Events EL,Events EN,Events ES
ATTACH;FMTTYPE=image/png:https://hellenicspanishchamber.gr/wp-content/uploads/2026/03/Diseno-sin-titulo-19.png
END:VEVENT
BEGIN:VEVENT
DTSTART;TZID=Europe/Moscow:20260316T183000
DTEND;TZID=Europe/Moscow:20260316T193000
DTSTAMP:20260423T164440
CREATED:20260224T122531Z
LAST-MODIFIED:20260319T072828Z
UID:231630-1773685800-1773689400@hellenicspanishchamber.gr
SUMMARY:Annual General Assembly 16/03/2026 18.30
DESCRIPTION:The General Assembly of the Hellenic Spanish Chamber of Commerce was successfully convened\, reaffirming the Chamber’s institutional role in advancing Greece–Spain economic relations. \nThe Assembly marked the completion of the current Board’s mandate. We acknowledge the contribution and service of the outgoing members:\nThanasis Tsantilas (Rokas Renewables (Iberdrola International)\, SUSANA DOLADO RUDILLA (Santander Consumer Finance)\, George Georgopoulos (Pescanova Hellas)\, Rodanthi Tzortzaki (@Navas y Cusi)\, Michael Kokkinos (MOPTIL – Mobile Optical Illusions)\, Ana de Miguel García\, Evangelos Manoudakis. \nFollowing the electoral process\, the new Board has been constituted as follows:\nMyrto Vassiloglou (AMADEUS HELLAS S.A.)\, Lesmes Nachón Suárez (Hotel Vinci)\, Chryssa Giannopoulou (Ecoener)\, Thanasis Tsantilas (Rokas Renewables (Iberdrola International)\, SUSANA DOLADO RUDILLA (Santander Consumer Finance)\, George Georgopoulos (Pescanova Hellas)\, Michael Kokkinos (MOPTIL – Mobile Optical Illusions). \nIn his address\, President Michael Kokkinos summarized the work of the past term\, highlighting a clear trajectory of impact and institutional strengthening:\nStrengthening Greece–Spain bilateral ties through targeted\, Chamber-led initiatives with tangible ecosystem impact \nSupporting for a second consecutive year the Greek delegation at Mobile World Congress\, evolving this effort into a more structured\, intergovernmental collaboration.\nElevating the role of Chamber committees as focused value-creation engines across key sectors.\nDriving initiatives that translate into measurable business and investment opportunities.\nPositioning the Chamber as a forward-looking catalyst for the 2026–2027 period. \nThe Chamber continues its work with a clear mandate: to deepen bilateral engagement\, create measurable value for its members\, and act as a credible platform for strategic cooperation between Greece and Spain. \nThe Chamber extend our appreciation to Hotel Meliá Athens (Meliá Hotels International) for hosting the Assembly\, and to its Director\, Stavros Stavropoulos\, for the excellent arrangements and support. \nThank all members for their active participation and continued trust. \n       
URL:https://hellenicspanishchamber.gr/event/annual-general-assembly-16-03-2026-18-30/
CATEGORIES:Events EL,Events EN,Events ES
ATTACH;FMTTYPE=image/png:https://hellenicspanishchamber.gr/wp-content/uploads/2026/02/Diseno-sin-titulo-1.png
END:VEVENT
BEGIN:VEVENT
DTSTART;VALUE=DATE:20260318
DTEND;VALUE=DATE:20260319
DTSTAMP:20260423T164440
CREATED:20260318T075733Z
LAST-MODIFIED:20260319T074850Z
UID:231671-1773792000-1773878399@hellenicspanishchamber.gr
SUMMARY:Total Digital Transformation & AI World 2026: The Era of Realism & ROI. 18/03/2026
DESCRIPTION:The Total Digital Transformation & AI World 2026 SmartPress S.A. \, focusing on what truly matters today: “The Era of Realism & ROI”. \nAs technology matures\, the conversation is shifting\, from experimentation to measurable outcomes\, from innovation to real business value. \nThe Chamber is pleased to highlight the participation of Michael Kokkinos\, President of the Chamber\, as a speaker\, contributing to the dialogue on the future of digital transformation\, infrastructure\, and investment-driven growth. \n📍 Wednesday\, March 18\, 2026\n💻 Online Event \nThis year’s conference addresses critical questions for business leaders:\n– How do investments in Data Centers and Cloud translate into competitive advantage?\n– When does AI deliver measurable ROI?\n– What is the next phase of digital transformation in Greece? \nGreece is rapidly emerging as a strategic technology and infrastructure hub\, and this event brings together the key voices shaping that evolution. \n🔗 Programmes HERE. \nThe Chamber remains committed to supporting initiatives that foster knowledge exchange\, innovation\, and stronger business ties between Greece and Spain.
URL:https://hellenicspanishchamber.gr/event/total-digital-transformation-ai-world-2026-the-era-of-realism-roi/
CATEGORIES:Events EL,Events EN,Events ES
ATTACH;FMTTYPE=image/png:https://hellenicspanishchamber.gr/wp-content/uploads/2026/03/Diseno-sin-titulo-6.png
END:VEVENT
BEGIN:VEVENT
DTSTART;TZID=Europe/Moscow:20260320T130000
DTEND;TZID=Europe/Moscow:20260320T140000
DTSTAMP:20260423T164440
CREATED:20260224T122126Z
LAST-MODIFIED:20260324T084047Z
UID:231625-1774011600-1774015200@hellenicspanishchamber.gr
SUMMARY:Business Event. Keynote Speaker: Ms. Despina Paliarouta\, Secretary General of Energy and Mineral Resources.20/03/2026
DESCRIPTION:The Hellenic Spanish Chamber of Commerce is pleased to organise an exclusive Business Event focusing on the future of the energy and mineral sectors in Greece. \nWe are deeply honored to welcome Ms. Despina Paliarouta\, Secretary General of Energy and Mineral Resources\, as our Key Note Speaker. During this session\, Ms. Paliarouta will share valuable insights into the current landscape\, strategic initiatives\, and emerging opportunities within renewable energy and mineral development. \n\n📅 Date: Friday\, March 20th\, 2026\n⏰ Time: 13:00 h\n📍 Venue: Instituto Cervantes de Atenas\n\n       
URL:https://hellenicspanishchamber.gr/event/business-event-key-note-speaker-ms-despina-paliarouta-secretary-general-of-energy-and-mineral-resources-11-03-2026/
CATEGORIES:Events EL,Events EN,Events ES
ATTACH;FMTTYPE=image/png:https://hellenicspanishchamber.gr/wp-content/uploads/2026/02/Diseno-sin-titulo-15.png
END:VEVENT
BEGIN:VEVENT
DTSTART;TZID=Europe/Moscow:20260327T180000
DTEND;TZID=Europe/Moscow:20260327T190000
DTSTAMP:20260423T164440
CREATED:20260318T114555Z
LAST-MODIFIED:20260319T073339Z
UID:231695-1774634400-1774638000@hellenicspanishchamber.gr
SUMMARY:Guided Visit in English to the Exhibition FROM MONET TO WARHOL. 27/03/2026
DESCRIPTION:The Hellenic Spanish Chamber of Commerce organise a kindly invite their members to a Guided Visit in English to the Exhibition FROM MONET TO WARHOL THREE GENERATIONS\, ONE COLLECTION\, A JOURNEY THROUGH THE EVOLUTION OF MODERN ART. \nIconic artists of the late 19th and 20th centuries—including Picasso\, together with Bonnard\, Chagall\, De Kooning\, Degas\, Dufy\, Ernst\, Gauguin\, Kandinsky\, Lichtenstein\, Magritte\, Man Ray\, Marquet\, Matisse\, Modigliani\, Monet\, Morisot\, Munch\, Pissarro\, Seurat\, Signac\, Toulouse-Lautrec\, Vuillard and Warhol—are featured\, alongside lesser-known yet equally important and influential artists such as Angrand\, Anquetin\, Denis\, Feininger\, Friesz\, Hayet\, Lacombe\, Laugé\, Pourtau\, Ranson\, Redon\, Sérusier\, Szafran\, Vallotton and others. \n\n📅 Date: Friday\, February 27\, 2026\n⏰ Time: 18:00 – 19:00 h\n📍 Venue: Basil and Elise Goulandris Foundation\, Athens (3 Eratosthenous str. Athens 116 35\, Greece)
URL:https://hellenicspanishchamber.gr/event/guided-visit-in-english-to-the-exhibition-from-monet-to-warhol-27-03-2026/
CATEGORIES:Events EL,Events EN,Events ES
ATTACH;FMTTYPE=image/png:https://hellenicspanishchamber.gr/wp-content/uploads/2026/03/Diseno-sin-titulo-4.png
END:VEVENT
BEGIN:VEVENT
DTSTART;TZID=Europe/Moscow:20260508T093000
DTEND;TZID=Europe/Moscow:20260508T140000
DTSTAMP:20260423T164440
CREATED:20260422T084507Z
LAST-MODIFIED:20260422T084615Z
UID:232143-1778232600-1778248800@hellenicspanishchamber.gr
SUMMARY:Greek Exports Forum & Awards 2026 08/05/2026
DESCRIPTION:The Spanish Chamber of Commerce will take part in the Greek Exports Forum Awards 2026\, organised by Ethos on 8 May. \nGreek Exports Forum\nThe Greek Exports Forum 2026 will be held on May 8\, 2026\, from 9:30 AM to 2:00 PM\, digitally via the LiveOn Expo Complex\, the innovative 3D exhibition and conference center of LiveOn\, the digital platform for Business Communication and Events. \nThe international environment remains complex: a slowdown in Europe\, geopolitical tensions\, supply chain realignments\, energy uncertainty\, and an increase in protective policies (tariffs).\nThe challenges are clear: increased energy costs\, an unstable transportation environment\, new sustainability regulatory requirements (CBAM\, ESG)\, and limited financial flexibility for small and medium-sized enterprises\, which form the backbone of export activity.\nThe search for reliable suppliers\, the shift toward high-quality and sustainable products\, and the need for market diversification can create real growth opportunities for our country. \nB2B Meetings between exporters and representatives of Offices for Economic and Commercial Affairs\, sponsors and bilateral chambers\nThe organizers secured for potential exporter participants the opportunity to hold personal meetings (B2B meetings) on Monday and Tuesday\, May 11 and 12\, with representatives of sponsors\, representatives of Offices for Economic and Commercial Affairs of the Ministry of Foreign Affairs and bilateral Chambers. \nAt these meetings entrepreneurs will be able to explore the prospect of networking in the markets of interest to them and to learn in detail the difficulties and opportunities for bilateral commercial partnerships. \nGreek Exports Awards\nThe #gefa26 event will highlight and reward the businesses that excelled in the export sector during yet another challenging year\, which faced the impacts of geopolitical conflicts and high costs.\nThe Greek Exports Awards 2026 Ceremony will take place on May 8\, 2026 with physical attendance at Divani Caravel. \n  \nFor more information here.
URL:https://hellenicspanishchamber.gr/event/greek-exports-forum-awards-2026-08-05-2026/
CATEGORIES:Events EL,Events EN,Events ES
ATTACH;FMTTYPE=image/png:https://hellenicspanishchamber.gr/wp-content/uploads/2026/04/Diseno-sin-titulo-49.png
END:VEVENT
BEGIN:VEVENT
DTSTART;VALUE=DATE:20260525
DTEND;VALUE=DATE:20260528
DTSTAMP:20260423T164440
CREATED:20260422T080354Z
LAST-MODIFIED:20260422T093915Z
UID:232136-1779667200-1779926399@hellenicspanishchamber.gr
SUMMARY:11th HAEE Energy Transition Symposium 25-27/05/2026
DESCRIPTION:The Energy Transition Is Entering the Execution Phase\nAcross Europe\, the initial phase of the energy transition is largely complete: targets have been set\, capital has been mobilized\, and technologies have matured. Today\, the defining variable for success has shifted from “what” we want to achieve to how effectively we can deliver. \nWe are now entering a “second-order” phase—one defined by scaling deployment\, integrating complex systems\, and navigating real-world structural constraints. \nBeyond Headline Growth: The Shift to Optimization\nBetween 2026 and 2027\, the landscape will be shaped less by rapid build-out and more by the ability to manage the “invisible” dynamics of the transition. The low-hanging fruit has been picked; the next era belongs to those who can master: \nInfrastructure & Grids: Navigating bottlenecks that currently dictate the pace of renewable deployment. \nSystem Integration: Managing the complex interaction between power\, storage\, hydrogen\, and digital systems. \nStrategic Discipline: Shifting focus from adding simple capacity to unlocking value from existing systems through effective coordination. \nThe 11th HAEE Energy Transition Symposium\nThese themes are at the core of our latest report and are highly aligned with the upcoming 11th HAEE Energy Transition Symposium. Taking place in Athens (25-27 May 2026)\, the Symposium serves as the primary platform where policymakers\, industry leaders\, and experts move the conversation from goals to measurable\, transformative actions. \nDon’t just watch the transition happen—own the execution. \nFor more information here.
URL:https://hellenicspanishchamber.gr/event/11th-haee-energy-transition-symposium-25-27-05-2026/
CATEGORIES:Events EL,Events EN,Events ES
ATTACH;FMTTYPE=image/png:https://hellenicspanishchamber.gr/wp-content/uploads/2026/04/Institutional-parttners.png
END:VEVENT
END:VCALENDAR