BEGIN:VCALENDAR
VERSION:2.0
PRODID:-//The Hellenic Spanish Chamber of Commerce - ECPv6.11.2//NONSGML v1.0//EN
CALSCALE:GREGORIAN
METHOD:PUBLISH
X-WR-CALNAME:The Hellenic Spanish Chamber of Commerce
X-ORIGINAL-URL:https://hellenicspanishchamber.gr
X-WR-CALDESC:Events for The Hellenic Spanish Chamber of Commerce
REFRESH-INTERVAL;VALUE=DURATION:PT1H
X-Robots-Tag:noindex
X-PUBLISHED-TTL:PT1H
BEGIN:VTIMEZONE
TZID:Europe/Moscow
BEGIN:STANDARD
TZOFFSETFROM:+0300
TZOFFSETTO:+0300
TZNAME:MSK
DTSTART:20250101T000000
END:STANDARD
END:VTIMEZONE
BEGIN:VEVENT
DTSTART;TZID=Europe/Moscow:20250919T080000
DTEND;TZID=Europe/Moscow:20251231T170000
DTSTAMP:20260421T114259
CREATED:20250919T101016Z
LAST-MODIFIED:20251029T112222Z
UID:231380-1758268800-1767200400@hellenicspanishchamber.gr
SUMMARY:ILIS Program: Labor Integration and Social Inclusion - Programa ILIS de Integraciόn Laboral e Inclusiόn Social
DESCRIPTION:La Cámara de Comercio Hispano Helena de Atenas organiza el PROGRAMA ILIS DE INTEGRACIÓN LABORAL E INCLUSIÓN SOCIAL 2025\, financiado por la Consejería de Trabajo\, Seguridad Social y con la colaboración de la Asociación Hispano Helena\, el Instituto Cervantes y con los auspicios de la Embajada de España en Atenas. \nEste programa tiene como objetivo el apoyo laboral\, la formación\, la agrupación\, la inclusión social y lingüística de los españoles residentes en Grecia y la promoción cultural. \nEs un programa financiado para los españoles en Grecia. \n!PREINSCRÍBETE para recibir información de todas las actividades!!! \nPREINSCRIPCIÓN AQUÍ \nPRESENTACIÓN DEL PROGRAMA AQUÍ
URL:https://hellenicspanishchamber.gr/event/programa-ilis-integraci%cf%8cn-laboral-e-inclusi%cf%8cn-social/
CATEGORIES:Events EL,Events EN,Events ES
ATTACH;FMTTYPE=image/jpeg:https://hellenicspanishchamber.gr/wp-content/uploads/2025/09/7.jpg
END:VEVENT
BEGIN:VEVENT
DTSTART;TZID=Europe/Moscow:20251029T183000
DTEND;TZID=Europe/Moscow:20251029T193000
DTSTAMP:20260421T114259
CREATED:20251020T090847Z
LAST-MODIFIED:20251029T110438Z
UID:231523-1761762600-1761766200@hellenicspanishchamber.gr
SUMMARY:Workshop - “AI for Professionals: Leveraging Artificial Intelligence to Launch and Grow Your Business” 29/10/2025
DESCRIPTION:The Hellenic Spanish Chamber of Commerce is organizing the AI for Professionals: Leveraging Artificial Intelligence to Launch and Grow Your Business sessions as part of the ILIS Program for Labor Integration and Social Inclusion\, funded by the Ministry of Labor\, Social Security\, and Migration. \nA practical event to discover how Artificial Intelligence can boost your career and drive the growth of your business. \n– \nLa Cámara de Comercio Hispano Helena organiza las Jornadas AI for Professionals: Leveraging Artificial Intelligence to Launch and Grow Your Business en el marco del Programa ILIS de Integración Laboral e Inclusión Social\, financiado por la Consejería de Trabajo\, Seguridad Social y Migraciones. \nUn encuentro práctico para descubrir cómo la Inteligencia Artificial puede impulsar tu carrera y el crecimiento de tu negocio. \n📍Las jornadas serán en INGLÉS . Se pueden seguir presencial u online. \n🗓️Fecha: Miércoles 29 de octubre de 2025 18.00\n🏢Lugar: Impact Hub Athens\, metro monasteraki (mapa)\n⏰ Horario: 18.30-19.30 \nInscripción obligatoria AQUÍ \n  \n📘 Workshop contents: \nIntroduction \n\nWhy AI is a Game-Changer\n\nUnderstanding AI Basics \nPractical AI Tools for Professionals \n\nContent Creation & Marketing\nBranding & Design\n\nEthical Use of AI \nWrap-Up \nNo te pierdas esta oportunidad de aprender a integrar la IA en tu día a día profesional y potenciar tu negocio con las herramientas del futuro.
URL:https://hellenicspanishchamber.gr/event/jornadas-ai-for-professionals-leveraging-artificial-intelligence-to-launch-and-grow-your-business/
LOCATION:Impact HUB\, Karaiskaki 28\, Athens\, Athina\, 10554\, Greece
CATEGORIES:Events EL,Events EN,Events ES
ATTACH;FMTTYPE=image/jpeg:https://hellenicspanishchamber.gr/wp-content/uploads/2025/10/Imagen-22-10-25-a-las-13.51-2.jpg
END:VEVENT
END:VCALENDAR