BEGIN:VCALENDAR
VERSION:2.0
PRODID:-//The Hellenic Spanish Chamber of Commerce - ECPv6.11.2//NONSGML v1.0//EN
CALSCALE:GREGORIAN
METHOD:PUBLISH
X-ORIGINAL-URL:https://hellenicspanishchamber.gr
X-WR-CALDESC:Events for The Hellenic Spanish Chamber of Commerce
REFRESH-INTERVAL;VALUE=DURATION:PT1H
X-Robots-Tag:noindex
X-PUBLISHED-TTL:PT1H
BEGIN:VTIMEZONE
TZID:Europe/Moscow
BEGIN:STANDARD
TZOFFSETFROM:+0300
TZOFFSETTO:+0300
TZNAME:MSK
DTSTART:20250101T000000
END:STANDARD
END:VTIMEZONE
BEGIN:VEVENT
DTSTART;TZID=Europe/Moscow:20250623T080000
DTEND;TZID=Europe/Moscow:20250623T170000
DTSTAMP:20260421T172719
CREATED:20250701T082327Z
LAST-MODIFIED:20260308T140720Z
UID:231154-1750665600-1750698000@hellenicspanishchamber.gr
SUMMARY:Business Breakfast Key note Speaker: Tasos Chatzivasileiou  Deputy Minister of Foreign Affairs 23/06/2025
DESCRIPTION:Last week\, the Hellenic Spanish Chamber of Commerce had the honor of hosting Dr. Tasos Chatzivasileiou\, Deputy Minister of Foreign Affairs of Greece\, along with his delegation and representatives from Enterprise Greece S.A.\, for an insightful Business Breakfast held at our venue at the Educational Association of Athens “HFAISTOS.” \nThe event brought together key members of our Chamber representing a wide spectrum of industries including energy\, tourism\, real estate\, finance\, culture\, and agri-food. It served as a dynamic platform for open dialogue and strategic exchange on how to further deepen economic relations between Greece and Spain. \nThis gathering follows the recent high-level business mission to Spain\, in which the Chamber played a vital role in shaping bilateral initiatives. The positive momentum from Madrid is now evolving into concrete actions and new business opportunities across both markets. \nA key highlight of the discussion was Spain’s unique position as a bridge to Latin America\, presenting an exciting expansion route for Greek businesses aiming to scale on a global level. \nWe extend our warmest thanks to Deputy Minister Chatzivasileiou and his team for their valuable presence and for supporting our common vision of extroversion\, growth\, and cross-border collaboration. \nPhoto credits: Julie Georgantidou \n    
URL:https://hellenicspanishchamber.gr/event/business-breakfast-key-note-speaker-tasos-chatzivasileiou-23-06-2025/
CATEGORIES:Events EL,Events EN,Events ES
ATTACH;FMTTYPE=image/png:https://hellenicspanishchamber.gr/wp-content/uploads/2025/07/Tamano-Fotos-Web.png
END:VEVENT
END:VCALENDAR