BEGIN:VCALENDAR
VERSION:2.0
PRODID:-//The Hellenic Spanish Chamber of Commerce - ECPv6.11.2//NONSGML v1.0//EN
CALSCALE:GREGORIAN
METHOD:PUBLISH
X-ORIGINAL-URL:https://hellenicspanishchamber.gr
X-WR-CALDESC:Events for The Hellenic Spanish Chamber of Commerce
REFRESH-INTERVAL;VALUE=DURATION:PT1H
X-Robots-Tag:noindex
X-PUBLISHED-TTL:PT1H
BEGIN:VTIMEZONE
TZID:Europe/Moscow
BEGIN:STANDARD
TZOFFSETFROM:+0300
TZOFFSETTO:+0300
TZNAME:MSK
DTSTART:20250101T000000
END:STANDARD
END:VTIMEZONE
BEGIN:VEVENT
DTSTART;TZID=Europe/Moscow:20250610T140000
DTEND;TZID=Europe/Moscow:20250610T160000
DTSTAMP:20260421T172703
CREATED:20250516T125821Z
LAST-MODIFIED:20250818T131551Z
UID:231011-1749564000-1749571200@hellenicspanishchamber.gr
SUMMARY:Business Lunch Key note Speaker: Margaritis Schinas 10/06/2025
DESCRIPTION:The Hellenic-Spanish Chamber of Commerce had the honor of hosting\, at the Radisson Blu Park Hotel\, a business luncheon with Mr. Margaritis Schinas\, former Vice President of the European Commission\, as keynote speaker. \nMr. Schinas delivered a powerful address on Europe’s recent challenges and the path toward recovery\, calling for a pragmatic\, united vision for the future of the continent. He emphasized the stabilizing role of Greece and Spain as pillars of Southern Europe in today’s shifting geopolitical landscape. \nWe were also honored by the presence of H.E. Jorge Manuel Domecq Fernández de Bobadilla\, Ambassador of Spain to Greece\, alongside key leaders from the business and institutional communities\, including Sophia Efraimoglou – Kounenaki\, Vice President of ΕΒΕΑ – ACCI | Athens Chamber of Commerce and Industry\, Clemente Pinedo\, former President of the Hellenic-Spanish Chamber and President of the Board of Directors of Aurora\, Litsa Panayotopoulos\, Member of the Executive Committee (Treasurer) of the American – Hellenic Chamber of Commerce & Chair of the Entrepreneurship\, Innovation\, and Education Committee\, Lysandros Tsilidis\, President of the FEDHATTA\, Federation of Hellenic Associations of Travel & Tourist Agencies (FedHATTA)\, Cav. Avv. Ioannis Tsamichas\, president of the Athens Greek-Italian Chamber of Commerce and Eleni Foti\, Director of International Commercial Relations at ΕΒΕΑ – ACCI \nTheir participation reaffirmed the shared commitment to advancing cross-border collaboration and shaping a resilient European future. \nSpecial thanks to our event sponsors:Rokas Renewables (Iberdrola Renovables)\,Santander Consumer Finance Greece andPescanova Hellas.
URL:https://hellenicspanishchamber.gr/event/business-lunch-key-note-speaker-margaritis-schinas-10-06-2025/
CATEGORIES:Events EL,Events EN,Events ES
ATTACH;FMTTYPE=image/png:https://hellenicspanishchamber.gr/wp-content/uploads/2025/05/Sin-titulo-809-x-607-px-11.png
END:VEVENT
END:VCALENDAR