BEGIN:VCALENDAR
VERSION:2.0
PRODID:-//The Hellenic Spanish Chamber of Commerce - ECPv6.11.2//NONSGML v1.0//EN
CALSCALE:GREGORIAN
METHOD:PUBLISH
X-WR-CALNAME:The Hellenic Spanish Chamber of Commerce
X-ORIGINAL-URL:https://hellenicspanishchamber.gr
X-WR-CALDESC:Events for The Hellenic Spanish Chamber of Commerce
REFRESH-INTERVAL;VALUE=DURATION:PT1H
X-Robots-Tag:noindex
X-PUBLISHED-TTL:PT1H
BEGIN:VTIMEZONE
TZID:Europe/Moscow
BEGIN:STANDARD
TZOFFSETFROM:+0300
TZOFFSETTO:+0300
TZNAME:MSK
DTSTART:20250101T000000
END:STANDARD
END:VTIMEZONE
BEGIN:VEVENT
DTSTART;TZID=Europe/Moscow:20250604T190000
DTEND;TZID=Europe/Moscow:20250604T200000
DTSTAMP:20260421T172221
CREATED:20250612T072607Z
LAST-MODIFIED:20250804T075447Z
UID:231043-1749063600-1749067200@hellenicspanishchamber.gr
SUMMARY:Visit to the exhibition of LOS CAPRICHOS de Francisco Goya 04/06/2025
DESCRIPTION:We had the pleasure of visiting the “Los Caprichos” exhibition by Francisco de Goya at the National Gallery in Athens on June 4\, an event organized by the Hellenic Spanish Chamber of Commerce. \nThe tour was a powerful reminder of how timeless Goya’s reflections on society still feel today — full of irony\, critique\, and deep human insight. \nIt was not only an enriching cultural experience\, but also a great opportunity to connect and share perspectives in such a meaningful setting. \nThank you to everyone who joined us\, and to the National Gallery for hosting us so warmly.  \n 
URL:https://hellenicspanishchamber.gr/event/visit-to-the-exhibition-of-los-caprichos-de-francisco-goya/
CATEGORIES:Events EL,Events EN,Events ES
ATTACH;FMTTYPE=image/png:https://hellenicspanishchamber.gr/wp-content/uploads/2025/06/Goya_Event_Resized_940x788.png
END:VEVENT
END:VCALENDAR