BEGIN:VCALENDAR
VERSION:2.0
PRODID:-//The Hellenic Spanish Chamber of Commerce - ECPv6.11.2//NONSGML v1.0//EN
CALSCALE:GREGORIAN
METHOD:PUBLISH
X-WR-CALNAME:The Hellenic Spanish Chamber of Commerce
X-ORIGINAL-URL:https://hellenicspanishchamber.gr
X-WR-CALDESC:Events for The Hellenic Spanish Chamber of Commerce
REFRESH-INTERVAL;VALUE=DURATION:PT1H
X-Robots-Tag:noindex
X-PUBLISHED-TTL:PT1H
BEGIN:VTIMEZONE
TZID:Europe/Moscow
BEGIN:STANDARD
TZOFFSETFROM:+0300
TZOFFSETTO:+0300
TZNAME:MSK
DTSTART:20250101T000000
END:STANDARD
END:VTIMEZONE
BEGIN:VEVENT
DTSTART;TZID=Europe/Moscow:20250526T080000
DTEND;TZID=Europe/Moscow:20250528T170000
DTSTAMP:20260421T172358
CREATED:20250513T092429Z
LAST-MODIFIED:20250716T114521Z
UID:230990-1748246400-1748451600@hellenicspanishchamber.gr
SUMMARY:Business Mission to Spain 25-27/05/2025
DESCRIPTION:The Hellenic-Spanish Chamber of Commerce proudly participated in and supported a three-day Greek business mission to Madrid\, focused on reinforcing economic cooperation\, enhancing exports\, and fostering investment between Greece and Spain. \n \nDay 1 – Institutional Networking at the Greek EmbassyThe mission began with an official networking reception hosted by Ambassador Aglaia Balta at the Greek Embassy in Madrid.In his keynote remarks\, Deputy Minister of Foreign Affairs Tasos Chatzivasileiou\, PhD\, highlighted Greece’s strategic interest in the Spanish market and the vital role of extroversion in international positioning.The event was a strong expression of institutional support for activating new bilateral synergies. \n \nDay 2 – Hellenic-Spanish Business Forum at CEOEOn May 26\, the Hellenic-Spanish Business Forum was held at the CEOE headquarters\, bringing together leading Greek and Spanish institutions:the Ministry of Foreign Affairs\, Enterprise Greece SA\, SEV\, EBEA – ACCI\, SEVE\, the Greek Embassy in Spain\, the Cámara de Comercio Hispano Griega\, and the Hellenic-Spanish Chamber of Commerce.Chamber President Michael Kokkinos opened the “Business Success Stories” panel\, where speakers from Iberdrola Renovables Internacional and ACUIDELTA S.L. shared valuable insights on investment and cross-border cooperation.A networking reception followed\, facilitating further engagement among delegates. \n \nDay 3 – Visit to the Madrid Chamber of Commerce & B2B SessionThe mission concluded with a high-level visit to the Madrid Chamber of Commerce\, where President Ángel Asensio Laguna and Deputy Minister Tasos Chatzivasileiou emphasized the new momentum in Greek–Spanish economic relations.The subsequent B2B networking session enabled direct dialogue and collaboration between Greek and Spanish enterprises. \n \nThe Hellenic-Spanish Chamber of Commerce is honored to serve as a bridge between the two business ecosystems\, continuing to build long-term trust\, strategic partnerships\, and shared prosperity.
URL:https://hellenicspanishchamber.gr/event/business-mission-to-spain-26-28-05-2025/
CATEGORIES:Events EL,Events EN,Events ES
ATTACH;FMTTYPE=image/png:https://hellenicspanishchamber.gr/wp-content/uploads/2025/05/Sin-titulo-809-x-607-px.png
END:VEVENT
END:VCALENDAR