BEGIN:VCALENDAR
VERSION:2.0
PRODID:-//The Hellenic Spanish Chamber of Commerce - ECPv6.11.2//NONSGML v1.0//EN
CALSCALE:GREGORIAN
METHOD:PUBLISH
X-ORIGINAL-URL:https://hellenicspanishchamber.gr
X-WR-CALDESC:Events for The Hellenic Spanish Chamber of Commerce
REFRESH-INTERVAL;VALUE=DURATION:PT1H
X-Robots-Tag:noindex
X-PUBLISHED-TTL:PT1H
BEGIN:VTIMEZONE
TZID:Europe/Moscow
BEGIN:STANDARD
TZOFFSETFROM:+0300
TZOFFSETTO:+0300
TZNAME:MSK
DTSTART:20250101T000000
END:STANDARD
END:VTIMEZONE
BEGIN:VEVENT
DTSTART;VALUE=DATE:20250430
DTEND;VALUE=DATE:20250501
DTSTAMP:20260421T183131
CREATED:20250507T093505Z
LAST-MODIFIED:20260308T141111Z
UID:230961-1745971200-1746057599@hellenicspanishchamber.gr
SUMMARY:Business Breakfast with Mr. Michael Dritsas\, Policy Officer at the Ministry of Economy and Finance 30/04/25
DESCRIPTION:On April 30th\, the Hellenic Spanish Chamber of Commerce had the honor of hosting Mr. Michael Dritsas\, Policy Officer at the Ministry of Economy and Finance of Greece\, as keynote speaker at our latest Business Breakfast. \nHeld at the Radisson Blu Park Hotel Athens\, the event featured a focused presentation on the Greek economy review and outlook and on the investment environment and financial instruments available to Greek and international businesses. Mr. Dritsas provided valuable insights on public-private cooperation\, innovation financing\, and startup growth pathways. \nWe thank our members and guests for their participation\, and Mr. Dritsas for his valuable contribution. \nSpecial thanks to Radisson Blu Park Hotel Athens for kindly sponsoring this event and supporting the Chamber’s mission.\n(Photo credits Julie Georgantidou)
URL:https://hellenicspanishchamber.gr/event/business-breakfast-with-mr-michael-dritsas/
LOCATION:RADISSON BLU PARK HOTEL\, Leof. Alexandras 10\, Athina\, Athina\, 10682\, Grecia
CATEGORIES:Events EL,Events EN,Events ES
ATTACH;FMTTYPE=image/png:https://hellenicspanishchamber.gr/wp-content/uploads/2025/05/Sin-titulo-809-x-607-px-9.png
END:VEVENT
END:VCALENDAR