BEGIN:VCALENDAR
VERSION:2.0
PRODID:-//The Hellenic Spanish Chamber of Commerce - ECPv6.11.2//NONSGML v1.0//EN
CALSCALE:GREGORIAN
METHOD:PUBLISH
X-WR-CALNAME:The Hellenic Spanish Chamber of Commerce
X-ORIGINAL-URL:https://hellenicspanishchamber.gr
X-WR-CALDESC:Events for The Hellenic Spanish Chamber of Commerce
REFRESH-INTERVAL;VALUE=DURATION:PT1H
X-Robots-Tag:noindex
X-PUBLISHED-TTL:PT1H
BEGIN:VTIMEZONE
TZID:Europe/Moscow
BEGIN:STANDARD
TZOFFSETFROM:+0300
TZOFFSETTO:+0300
TZNAME:MSK
DTSTART:20250101T000000
END:STANDARD
END:VTIMEZONE
BEGIN:VEVENT
DTSTART;VALUE=DATE:20250425
DTEND;VALUE=DATE:20250426
DTSTAMP:20260421T200534
CREATED:20250326T070312Z
LAST-MODIFIED:20250717T084626Z
UID:230870-1745539200-1745625599@hellenicspanishchamber.gr
SUMMARY:Greek Exports Forum & Awards 2025 25/04/2025
DESCRIPTION:Foro y Premios de Exportaciones Griegas 2025\n¡Mε αμείωτο ρυθμό οι υποψηφιότητες!\nForo y premios de  las exportaciones griegas 2025  \nτα βραβεία θεσμός για τους Έλληνες εξαγωγείς\, \nαναζητούν τους  «πρωταγωνιστές»  του κλάδου! \nΕίστε ανάμεσά τους; \n✅ ¡  Yποβάλετε τις υποψηφιότητές  σας μέχρι τις  28 Μαρτίου! \nΕπιλέξτε  σήμερα μεταξύ  49 διαφορετικών κατηγοριών  βραβείων \nσε  4 θεματικές ενότητες  εκείνες που σας αντιπροσωπεύουν \nκαι αναδείξτε τις επιτυχίες της εταιρείας σας! \n \n  \n  \nΗ υποβολή υποψηφιοτήτων συνεχίζεται\nέως και την Πέμπτη 3 Απριλίου 2025! \n \n \n  \n  \n  \nΗ λαμπερή τελετή  απονομής  των  Premios a las exportaciones griegas  θα διεξαχθεί το \nβράδυ  της Παρασκευής  25 Απριλίου . Premios Τα   διοργανώνονται  για \n13η συνεχή χρονιά  από την Ένωση Διπλωματικών Υπαλλήλων Οικονομικών \n& Εμπορικών Υποθέσεων (ΕΝΔΥ ΟΕΥ) του  Υπουργείου  Εξωτερικών \, \nσε συνεργασία με την  ethosEVENTS \, με  φυσική παρουσία \nστο  Divani Apollon Palace & Thalasso  και με παράλληλη en línea μετάδοση από το \nComplejo de exposiciones LiveOn . \n        Foro de exportaciones griegas B2B Συναντήσεις \n25 de julio de 09:00 a 16:00 28 y 29 de julio de 10:00 a 18:00 \n🖥️ Complejo de exposiciones LiveOn 🖥️ Complejo de exposiciones LiveOn \nΥποβάλετε την υποψηφιότητά σας και εξασφαλίστε  4 δωρεάν B2B Συναντήσεις \n με εκπροσώπους  χορηγών\,  γραφείων  Οικονομικών και Εμπορικών Υποθέσεων \n(ΟΕΥ) του  Υπουργείου Εξωτερικών  και  Διμερών Επιμελητηρίων.
URL:https://hellenicspanishchamber.gr/event/greek-exports-forum-awards-2025-25-04-2025/
CATEGORIES:Events EL,Events EN,Events ES
ATTACH;FMTTYPE=image/png:https://hellenicspanishchamber.gr/wp-content/uploads/2025/03/Sin-titulo-809-x-607-px-4.png
END:VEVENT
END:VCALENDAR