BEGIN:VCALENDAR
VERSION:2.0
PRODID:-//The Hellenic Spanish Chamber of Commerce - ECPv6.11.2//NONSGML v1.0//EN
CALSCALE:GREGORIAN
METHOD:PUBLISH
X-WR-CALNAME:The Hellenic Spanish Chamber of Commerce
X-ORIGINAL-URL:https://hellenicspanishchamber.gr
X-WR-CALDESC:Events for The Hellenic Spanish Chamber of Commerce
REFRESH-INTERVAL;VALUE=DURATION:PT1H
X-Robots-Tag:noindex
X-PUBLISHED-TTL:PT1H
BEGIN:VTIMEZONE
TZID:Europe/Moscow
BEGIN:STANDARD
TZOFFSETFROM:+0300
TZOFFSETTO:+0300
TZNAME:MSK
DTSTART:20250101T000000
END:STANDARD
END:VTIMEZONE
BEGIN:VEVENT
DTSTART;TZID=Europe/Moscow:20250410T190000
DTEND;TZID=Europe/Moscow:20250411T200000
DTSTAMP:20260421T200554
CREATED:20250411T094241Z
LAST-MODIFIED:20251029T111653Z
UID:230949-1744311600-1744401600@hellenicspanishchamber.gr
SUMMARY:Sessions Services of the Consulate of Spain in Greece - Jornadas Servicios del Consulado de España en Grecia 10/04/2025
DESCRIPTION:On April 10\, 2025\, the Hellenic Spanish Chamber of Commerce\, in collaboration with the Embassy of Spain in Athens\, the Instituto Cervantes\, and with the support of the Hellenic Spanish Association\, proudly organized the session “Services of the Consulate of Spain in Greece.” \nThe event\, held at the Instituto Cervantes in Athens\, featured a presentation by Elena Pérez-Villanueva del Caz\, Counselor at the Embassy of Spain in Athens. She offered a clear and practical overview of the consular services available to Spanish citizens in Greece\, including documentation\, legal assistance\, and community support. \nThe session was well attended and concluded with an engaging Q&A segment\, which highlighted the strong interest and importance of these services. \n– \nEl 10 de abril de 2025\, la Cámara de Comercio Hispano Helena\, en colaboración con la Embajada de España en Atenas\, el Instituto Cervantes y con el apoyo de la Asociación Hispano Helena\, organizaron con orgullo la sesión “Jornadas: Servicios del Consulado de España en Grecia”. \nEl evento\, celebrado en el Instituto Cervantes de Atenas\, contó con la presentación de Elena Pérez-Villanueva del Caz\, Consejera de la Embajada de España en Atenas. Ofreció una visión clara y práctica de los servicios consulares disponibles para los ciudadanos españoles en Grecia\, incluyendo documentación\, asistencia legal y apoyo comunitario. \nLa sesión tuvo buena asistencia y conclusiones con una interesante sesión de preguntas y respuestas que destacó el gran interés y la importancia de estos servicios.
URL:https://hellenicspanishchamber.gr/event/jornadas-servicios-del-consulado-de-espana-en-grecia-10-04-2025/
CATEGORIES:Events EL,Events EN,Events ES
ATTACH;FMTTYPE=image/png:https://hellenicspanishchamber.gr/wp-content/uploads/2025/04/Sin-titulo-809-x-607-px-2.png
END:VEVENT
END:VCALENDAR