BEGIN:VCALENDAR
VERSION:2.0
PRODID:-//The Hellenic Spanish Chamber of Commerce - ECPv6.11.2//NONSGML v1.0//EN
CALSCALE:GREGORIAN
METHOD:PUBLISH
X-WR-CALNAME:The Hellenic Spanish Chamber of Commerce
X-ORIGINAL-URL:https://hellenicspanishchamber.gr
X-WR-CALDESC:Events for The Hellenic Spanish Chamber of Commerce
REFRESH-INTERVAL;VALUE=DURATION:PT1H
X-Robots-Tag:noindex
X-PUBLISHED-TTL:PT1H
BEGIN:VTIMEZONE
TZID:Europe/Moscow
BEGIN:STANDARD
TZOFFSETFROM:+0300
TZOFFSETTO:+0300
TZNAME:MSK
DTSTART:20250101T000000
END:STANDARD
END:VTIMEZONE
BEGIN:VEVENT
DTSTART;TZID=Europe/Moscow:20250919T080000
DTEND;TZID=Europe/Moscow:20251231T170000
DTSTAMP:20260421T113526
CREATED:20250919T101016Z
LAST-MODIFIED:20251029T112222Z
UID:231380-1758268800-1767200400@hellenicspanishchamber.gr
SUMMARY:ILIS Program: Labor Integration and Social Inclusion - Programa ILIS de Integraciόn Laboral e Inclusiόn Social
DESCRIPTION:La Cámara de Comercio Hispano Helena de Atenas organiza el PROGRAMA ILIS DE INTEGRACIÓN LABORAL E INCLUSIÓN SOCIAL 2025\, financiado por la Consejería de Trabajo\, Seguridad Social y con la colaboración de la Asociación Hispano Helena\, el Instituto Cervantes y con los auspicios de la Embajada de España en Atenas. \nEste programa tiene como objetivo el apoyo laboral\, la formación\, la agrupación\, la inclusión social y lingüística de los españoles residentes en Grecia y la promoción cultural. \nEs un programa financiado para los españoles en Grecia. \n!PREINSCRÍBETE para recibir información de todas las actividades!!! \nPREINSCRIPCIÓN AQUÍ \nPRESENTACIÓN DEL PROGRAMA AQUÍ
URL:https://hellenicspanishchamber.gr/event/programa-ilis-integraci%cf%8cn-laboral-e-inclusi%cf%8cn-social/
CATEGORIES:Events EL,Events EN,Events ES
ATTACH;FMTTYPE=image/jpeg:https://hellenicspanishchamber.gr/wp-content/uploads/2025/09/7.jpg
END:VEVENT
BEGIN:VEVENT
DTSTART;TZID=Europe/Moscow:20250924T170000
DTEND;TZID=Europe/Moscow:20250924T180000
DTSTAMP:20260421T113526
CREATED:20250919T105749Z
LAST-MODIFIED:20250930T095353Z
UID:231390-1758733200-1758736800@hellenicspanishchamber.gr
SUMMARY:Cultural Networking Event - Visit GOYA Exhibition 24/09/2025
DESCRIPTION: The Hispano-Hellenic Chamber of Commerce in Athens organized\, within the framework of the ILIS Program for Labor Integration and Social Inclusion 2025\, a Cultural Networking Event aimed at fostering intercultural dialogue and professional opportunities. \nThe program was funded by the Spanish Ministry of Labor and Social Security\, with the collaboration of the Hispano-Hellenic Association and the Instituto Cervantes\, under the auspices of the Embassy of Spain in Athens. \n    
URL:https://hellenicspanishchamber.gr/event/cultural-networking-event-visit-goya-exhibition-24-09-2025/
CATEGORIES:Events EL,Events EN,Events ES
ATTACH;FMTTYPE=image/jpeg:https://hellenicspanishchamber.gr/wp-content/uploads/2025/09/4.jpg
END:VEVENT
BEGIN:VEVENT
DTSTART;TZID=Europe/Moscow:20250926T190000
DTEND;TZID=Europe/Moscow:20250926T193000
DTSTAMP:20260421T113526
CREATED:20251022T092142Z
LAST-MODIFIED:20251029T105719Z
UID:231541-1758913200-1758915000@hellenicspanishchamber.gr
SUMMARY:Cultural Networking Event - Visit SOROLLA Exhibition 26/09/2025
DESCRIPTION:Within the framework of the ILIS Program for Spaniards\, funded by the Ministry of Labor\, Migration\, and Social Security\, the Hellenic Spanish Chamber of Commerce organized a cultural visit to the Sorolla exhibition at the Cervantes Institute in Athens\, as part of its activities aimed at promoting knowledge and dissemination of Spanish culture. \n– \nEn el marco del Programa ILIS para españoles\, financiado por el Ministerio de Trabajo\, Migraciones y Seguridad Social\, la Cámara de Comercio Hispano Helena organizó una visita cultural al Instituto Cervantes de Atenas\, como parte de sus actividades destinadas a promover el conocimiento y la difusión de la cultura española. \nDurante la jornada\, los asistentes tuvieron la oportunidad de recorrer las instalaciones del Instituto y conocer la exposición dedicada a Joaquín Sorolla\, que ofrecía reproducciones de la obra “Luz\, mar y jardines” y material informativo sobre la vida y obra del reconocido pintor valenciano. Los participantes pudieron disfrutar de una visita guiada donde se explicó la importancia de la luminosidad y el color característicos de su estilo\, así como reflexionar sobre la influencia de la luz mediterránea en su pintura. \nEsta actividad contribuyó a fomentar el interés por el patrimonio artístico español y a fortalecer los lazos culturales entre España y Grecia\, generando además un espacio de diálogo e intercambio.
URL:https://hellenicspanishchamber.gr/event/cultural-event-visit-sorolla-exhibition/
CATEGORIES:Events EL,Events EN,Events ES
ATTACH;FMTTYPE=image/jpeg:https://hellenicspanishchamber.gr/wp-content/uploads/2025/10/Visita-Instituto-Cervantes-2-2.jpg
END:VEVENT
BEGIN:VEVENT
DTSTART;TZID=Europe/Moscow:20250930T080000
DTEND;TZID=Europe/Moscow:20250930T170000
DTSTAMP:20260421T113526
CREATED:20250919T105509Z
LAST-MODIFIED:20251029T110324Z
UID:231386-1759219200-1759251600@hellenicspanishchamber.gr
SUMMARY:Languages Classes SPANISH-GREEK - Clases Idiomas ESPAÑOL-GRIEGO Programa ILIS
DESCRIPTION:Within the framework of the ILIS Program for Labor Integration and Social Inclusion 2025\, the Hellenic Spanish Chamber of Commerce in Athens organizes Spanish and Greek language classes for all levels from September to December\, aimed at strengthening communication\, linguistic integration\, and professional opportunities. \nThe program is funded by the Spanish Ministry of Labor and Social Security\, with the collaboration of the Hispano-Hellenic Association and the Instituto Cervantes\, under the auspices of the Embassy of Spain in Athens. \n– \nEn el marco del Programa ILIS para la Integración Laboral y la Inclusión Social 2025\, la Cámara de Comercio Hispano Helena de Atenas organiza cursos de español y griego en todos los niveles de septiebre a diciembre\, con el propósito de fomentar la comunicación\, promover la integración lingüística y ampliar las oportunidades profesionales. \nEste programa cuenta con la financiación del Ministerio de Trabajo y Economía Social de España\, en colaboración con la Asociación Hispano-Helénica y el Instituto Cervantes\, y se desarrolla bajo los auspicios de la Embajada de España en Atenas. \n🕰️ Grupos: \nA1  \n\nLunes   9:00 – 10:00\nLunes   18:00 – 19:00\n\nA2 – B1 \n\nLunes  10:00 – 11:00\nLunes  19:00 – 20:00\n\nB2 \n\nJueves  20:00 – 21:00\n\nC2 \n\nMartes  19:45 – 20:45
URL:https://hellenicspanishchamber.gr/event/languages-classes-clases-idiomas-es-gr-programa-ilis/
CATEGORIES:Events EL,Events EN,Events ES
ATTACH;FMTTYPE=image/jpeg:https://hellenicspanishchamber.gr/wp-content/uploads/2025/09/5.jpg
END:VEVENT
END:VCALENDAR