BEGIN:VCALENDAR
VERSION:2.0
PRODID:-//The Hellenic Spanish Chamber of Commerce - ECPv6.11.2//NONSGML v1.0//EN
CALSCALE:GREGORIAN
METHOD:PUBLISH
X-WR-CALNAME:The Hellenic Spanish Chamber of Commerce
X-ORIGINAL-URL:https://hellenicspanishchamber.gr
X-WR-CALDESC:Events for The Hellenic Spanish Chamber of Commerce
REFRESH-INTERVAL;VALUE=DURATION:PT1H
X-Robots-Tag:noindex
X-PUBLISHED-TTL:PT1H
BEGIN:VTIMEZONE
TZID:Europe/Moscow
BEGIN:STANDARD
TZOFFSETFROM:+0300
TZOFFSETTO:+0300
TZNAME:MSK
DTSTART:20250101T000000
END:STANDARD
END:VTIMEZONE
BEGIN:VEVENT
DTSTART;TZID=Europe/Moscow:20250224T193000
DTEND;TZID=Europe/Moscow:20250224T213000
DTSTAMP:20260423T140207
CREATED:20250224T070152Z
LAST-MODIFIED:20250717T095755Z
UID:230868-1740425400-1740432600@hellenicspanishchamber.gr
SUMMARY:Cultural event Spanish Lyricism 24/02/2025
DESCRIPTION:The Hellenic Spanish Chamber of Commerce is proud to have placed the “ΙΣΠΑΝΙΚΟΣ ΛΥΡΙΣΜΟΣ” (Spanish Lyricism) concert under our auspices on Monday\, February 24\, 2025\, at 8:00 p.m.\, at the Museum of the City of Athens. \nThe extraordinary evening featured a gifted ensemble of young lyrical artists—graduates of the Nikolaos Mantzaros Conservatory and students of Greek National Opera soprano Maria Marketou—delighting the audience with beloved Spanish classics such as “Granada\,” “En Aranjuez con tu Amor\,” “Hijo de la Luna\,” as well as enchanting Zarzuelas and works by Manuel de Falla\, Enrique Granados\, and Federico García Lorca. The performers—Maira Georgarou\, Rea Voudouri\, Efi Dimitrellou\, Nikitas Gritzalis\, Spyros Sokos\, and Giorgos Keramidaris—were accompanied by the pianist and principal at the Greek National Opera\, Frixos Mortzos. \nThe event was hosted with the support of the Museum’s President\, Mr. Antonios Vogiatzis\, in collaboration with the Conservatory’s Director\, Ms. Youli Ventoura\, and the support of the Hellenic Spanish Association. \nThe concert brought Greek and Spanish communities closer together\, showcasing the unifying power of music and fostering cultural exchange. \n                                         
URL:https://hellenicspanishchamber.gr/event/cultural-event-spanishliric-24-02-2025/
CATEGORIES:Events EL,Events EN,Events ES
ATTACH;FMTTYPE=image/png:https://hellenicspanishchamber.gr/wp-content/uploads/2025/02/Sin-titulo-809-x-607-px-6.png
END:VEVENT
END:VCALENDAR