BEGIN:VCALENDAR
VERSION:2.0
PRODID:-//The Hellenic Spanish Chamber of Commerce - ECPv6.11.2//NONSGML v1.0//EN
CALSCALE:GREGORIAN
METHOD:PUBLISH
X-WR-CALNAME:The Hellenic Spanish Chamber of Commerce
X-ORIGINAL-URL:https://hellenicspanishchamber.gr
X-WR-CALDESC:Events for The Hellenic Spanish Chamber of Commerce
REFRESH-INTERVAL;VALUE=DURATION:PT1H
X-Robots-Tag:noindex
X-PUBLISHED-TTL:PT1H
BEGIN:VTIMEZONE
TZID:Europe/Moscow
BEGIN:STANDARD
TZOFFSETFROM:+0300
TZOFFSETTO:+0300
TZNAME:MSK
DTSTART:20260101T000000
END:STANDARD
END:VTIMEZONE
BEGIN:VEVENT
DTSTART;TZID=Europe/Moscow:20260216T193000
DTEND;TZID=Europe/Moscow:20260216T210000
DTSTAMP:20260423T150949
CREATED:20260224T122632Z
LAST-MODIFIED:20260224T122632Z
UID:231632-1771270200-1771275600@hellenicspanishchamber.gr
SUMMARY:KOPI TIS PITAS 16/03/2026 19.30h
DESCRIPTION:
URL:https://hellenicspanishchamber.gr/event/kopi-tis-pitas-16-03-2026-19-30h/
END:VEVENT
END:VCALENDAR